Workbook

Sheet COVER
A2: Division of Building and Safety Land Development 495 S. Main St, Las Vegas, NV 89101 (702) 229-6251 www.LasVegasNevada.gov
A4: PROJECT NAME: | C4: Acres:
A5: PROJECT NUMBER: | C5: # LOT(S)
A6: PREPARED BY:
C8: Surety Public | E8: Surety Private
B9: Subtotal Sewer | C9: =SEWER!G53 -> 0 | E9: =SEWER!H53 -> 0
B10: Subtotal Water | C10: =WATER!G47 -> 0 | E10: =WATER!H47 -> 0
B11: Subtotal Roadway | C11: =ROADWAY!G54 -> 0 | E11: =ROADWAY!H54 -> 0
B12: Subtotal Traffic | C12: =TRAFFIC!G38 -> 0 | E12: =TRAFFIC!H38 -> 0
B13: Subtotal Drainage | C13: =DRAINAGE!G76 -> 0 | E13: =DRAINAGE!H76 -> 0
B14: Subtotal Drainage Cont. | C14: ='DRAINAGE (Cont)'!G73 -> 0 | E14: ='DRAINAGE (Cont)'!H73 -> 0
B15: Subtotal Dry Utilities and Other | C15: ='DRY UTILITIES AND OTHER'!G73 -> 0 | E15: ='DRY UTILITIES AND OTHER'!H73 -> 0
B16: ESTIMATED LINE ITEM COST | C16: =SEWER!G53+WATER!G47+ROADWAY!G54+TRAFFIC!G38+DRAINAGE!G76+'DRAINAGE (Cont)'!G73+'DRY UTILITIES AND OTHER'!G73 -> 0 | E16: =SEWER!H53+WATER!H47+ROADWAY!H54+TRAFFIC!H38+DRAINAGE!H76+'DRAINAGE (Cont)'!H73+'DRY UTILITIES AND OTHER'!H73 -> 0
B17: 10% CONTINGENCIES | C17: =C16*0.1 -> 0 | E17: =E16*0.1 -> 0
B18: TOTAL | C18: =SUM(C16:C17) -> 0 | E18: =SUM(E16:E17) -> 0
B19: Grand Total (Public + Private) (Declared Value) | C19: =SUM(C18:F18) -> 0
B21: INSPECTION FEE
B22: First $30,000.00 (2.75%) | E22: =IF((C16+E16)<30000,(C16+E16)*0.0275,30000*0.0275) -> 0
B23: Next $90,000.00 (1.75%) | E23: =MIN(IF((C16+E16)>30000,((C16+E16)-30000)*0.0175,0),1575) -> 0
B24: Over $120,000.00 (1.0%) | E24: =IF(120000<(C16+E16),((C16+E16)-120000)*0.01,0) -> 0
B25: Total Inspection fee ($50 minimum for single residence, $150 minimum others) | E25: =ROUND(IF(A25="Y",25,IF(A23="Y",MAXA(SUM(E22:E24),50),IF(SUM(E22:E24)=0,0,MAXA(SUM(E22:E24),150)))),2) -> 0
B26: PLAN CHECK FEE
A27: IF SUBD.ENTER #LOT | B27: Plan Check Fee (($100 minimum for single residence, $500 minimum others)) 1.25% | E27: =ROUND(IF(A25="Y",25,IF(A23="Y",IF((C16+E16)>8000,(C16+E16)*0.0125,100),IF((C16+E16)>40000,(C16+E16)*0.0125,500))),2) -> 500 | F27: <<*
A28: 0 | B28: Sub. FM $100.00 + $10.00/Lot | E28: =IF(A28>0,100+(10*A28),0) -> 0
A29: Improvement Agreement Required* "Y" or "N" | B29: Improvement Agreement Fee ($100) | E29: =IF(A31="Y",100,0) -> 0
B30: Admin Fee | E30: 55 | F30: <<*
A31: N | B31: Total Fees | E31: =SUM(E25:E30) -> 555
B32: <<*- Plan Check Fee and Admin Fee due at time of Initial Submittal
A33: updated 8/17/07 dp - res. min pc fee
A34: updated 2/14/08 dp - Add verbiage for min pc fee for single residence
A35: Updated 04/14/2009 dbm - updated to full public cost
A36: Updated 11/20/2009 dbm - Revised full public cost adjusted to construction cost index published in Oct. 12, 2009 Engineer News Record (ENR)
A37: Updated 04/07/2010 dbm - Revise full public cost to adjust for cost comparison study for Calendar Year 2009 Bid Tabs
A38: Updated 10/04/2010 dbm - Revise 57 line items. Adjusted after review with DPW.
A39: Updated 08/14/2012 dbm - Added Landscape improvements and 2 additional Bus Stop Improvements
A40: Updated 08/16/2013 DBM Revised all line items for incremental increase to charge fees to full bonding amounts.
A41: Updated 10/14/13 dbm - revised fee % for PC and INSP fees to match CCPW Effective Oct 15, 2013
A42: Updated 12/26/13 - dbm - Annual ENR Construction Cost Indes adjustment of 2.8%(Average Sept, Oct and Nov) Effective Feburary 1, 2014
A43: Updated 12/01/14 mac - revised all line items for incremental increase to charge fees to full bonding amounts.
A44: Updated 8/17/07 dp - res. min pc fee
... A54: Updated 12/01/14 mac - revised all line items for incremental increase to charge fees to full bonding amounts.
B55: PRIVATE QUANTITIES ONLY NEED TO BE PROVIDED FOR PRIVATE STREET OR DRIVE WITHIN A RESIDENTIAL SUBDIVISION
B56: * - A Improvement Agreement is required whenever a perfomance bond must be posted.
A66: Revised Jan, 2026

Sheet SEWER
A1: SEWER IMPROVEMENTS
A2: LINEITEM | B2: DESCRIPTION | C2: Public Quantity | D2: Private Quantity | E2: Unit Type | F2: Unit Cost | G2: Total Public Estimate for Surety | H2: Total Private Estimate for Surety
A3: Sewer
A4: 0
A5: 630.00.11 | B5: 4" SEWER | E5: LF | F5: 42.32162 | G5: =C5*F5 -> 0 | H5: =F5*D5 -> 0
A6: 630.00.19 | B6: 6" SEWER | E6: LF | F6: 68.07856 | G6: =C6*F6 -> 0 | H6: =F6*D6 -> 0
A7: 630.00.23 | B7: 8" SEWER | E7: LF | F7: 86.9594 | G7: =C7*F7 -> 0 | H7: =F7*D7 -> 0
A8: 630.00.27 | B8: 10" SEWER | E8: LF | F8: 111.86846 | G8: =C8*F8 -> 0 | H8: =F8*D8 -> 0
A9: 630.00.30 | B9: 12" SEWER | E9: LF | F9: 149.17518 | G9: =C9*F9 -> 0 | H9: =F9*D9 -> 0
A10: 630.00.33 | B10: 15" SEWER | E10: LF | F10: 180.2779 | G10: =C10*F10 -> 0 | H10: =F10*D10 -> 0
A11: 630.00.36 | B11: 18" SEWER | E11: LF | F11: 221.28634 | G11: =C11*F11 -> 0 | H11: =F11*D11 -> 0
A12: 630.00.40 | B12: 21" SEWER | E12: LF | F12: 242.43164 | G12: =C12*F12 -> 0 | H12: =F12*D12 -> 0
A13: 630.00.46 | B13: 24" SEWER | E13: LF | F13: 182.04604 | G13: =C13*F13 -> 0 | H13: =F13*D13 -> 0
A14: 630.00.50 | B14: 27" SEWER | E14: LF | F14: 257.39362 | G14: =C14*F14 -> 0 | H14: =F14*D14 -> 0
A15: 630.00.54 | B15: 30" SEWER | E15: LF | F15: 279.70734 | G15: =C15*F15 -> 0 | H15: =F15*D15 -> 0
A16: 630.00.13 | B16: 4" SEWER C900 | E16: LF | F16: 186.47156 | G16: =C16*F16 -> 0 | H16: =F16*D16 -> 0
... A39: 630.02.72 | B39: SEWER CONCRETE ENCASEMENT | E39: LF | F39: 48.48426 | G39: =C39*F39 -> 0 | H39: =F39*D39 -> 0
A40: 630.99.MISC | B40: SEWER MISCELLANEOUS | F40: 0 | G40: =C40*F40 -> 0 | H40: =F40*D40 -> 0
A41: 0 | B41: 0 | C41: 1 | E41: 0 | F41: 0 | G41: =C41*F41 -> 0
A42: Sewer Manhole | E42: 0
A43: 0 | B43: 0 | E43: 0 | F43: 0
A44: 630.02.44 | B44: SEWER MANHOLE UNDER 6 FEET | E44: EA | F44: 8950.8313 | G44: =C44*F44 -> 0 | H44: =F44*D44 -> 0
A45: 630.02.49 | B45: SEWER MANHOLE 6 TO 18 FEET | E45: EA | F45: 17342.217 | G45: =C45*F45 -> 0 | H45: =F45*D45 -> 0
A46: 630.02.61 | B46: SEWER MANHOLE > 18' | E46: EA | F46: 21817.648 | G46: =C46*F46 -> 0 | H46: =F46*D46 -> 0
A47: 630.02.42 | B47: SEWER MANHOLE T-LOCK<18 | E47: EA | F47: 14962.921 | G47: =C47*F47 -> 0 | H47: =F47*D47 -> 0
A48: 630.02.43 | B48: SEWER MANHOLE T-LOCK>18 | E48: EA | F48: 26808.559 | G48: =C48*F48 -> 0 | H48: =F48*D48 -> 0
A49: 630.02.69 | B49: SEWER DROP MANHOLE < 18 | E49: EA | F49: 17342.217 | G49: =C49*F49 -> 0 | H49: =F49*D49 -> 0
A50: 630.02.70 | B50: SEWER DROP MANHOLE > 18 | E50: EA | F50: 27971.323 | G50: =C50*F50 -> 0 | H50: =F50*D50 -> 0
A51: 630.02.74 | B51: SEWER MANHOLE ADJUSTMENT | E51: EA | F51: 1367.4753 | G51: =C51*F51 -> 0 | H51: =F51*D51 -> 0
A52: 630.98.10 | B52: BACKWATER VALVES | E52: EA | F52: 841.65532 | G52: =C52*F52 -> 0 | H52: =F52*D52 -> 0
F53: Subtotal= | G53: =SUM(G5:G52) -> 0 | H53: =SUM(H5:H52) -> 0

Sheet WATER
A1: WATER AND FIRE IMPROVEMENTS
A2: LINEITEM | B2: DESCRIPTION | C2: Public Quantity | D2: Private Quantity | E2: Unit Type | F2: 100% Unit Cost for Surety | G2: Total Public Estimate for Surety | H2: Total Private Estimate for Surety
A3: Water | B3: 0 | E3: 0 | F3: 0
A4: 0 | B4: 0 | E4: 0 | F4: 0
A5: 629.01.12 | B5: 4" WATER MAIN | E5: LF | F5: 42.09 | G5: =C5*F5 -> 0 | H5: =F5*D5 -> 0
A6: 629.01.17 | B6: 6" WATER MAIN | E6: LF | F6: 55.31 | G6: =C6*F6 -> 0 | H6: =F6*D6 -> 0
A7: 629.01.22 | B7: 8" WATER MAIN | E7: LF | F7: 70.94 | G7: =C7*F7 -> 0 | H7: =F7*D7 -> 0
A8: 629.01.27 | B8: 10" WATER MAIN | E8: LF | F8: 91.39 | G8: =C8*F8 -> 0 | H8: =F8*D8 -> 0
A9: 629.01.32 | B9: 12" WATER MAIN | E9: LF | F9: 111.83 | G9: =C9*F9 -> 0 | H9: =F9*D9 -> 0
A10: 629.01.37 | B10: 14" WATER MAIN | E10: LF | F10: 138.27 | G10: =C10*F10 -> 0 | H10: =F10*D10 -> 0
A11: 629.01.42 | B11: 16" WATER MAIN | E11: LF | F11: 168.32 | G11: =C11*F11 -> 0 | H11: =F11*D11 -> 0
A12: 629.01.47 | B12: 18" WATER MAIN | E12: LF | F12: 204.38 | G12: =C12*F12 -> 0 | H12: =F12*D12 -> 0
A13: 629.01.52 | B13: 20" WATER MAIN | E13: LF | F13: 252.47 | G13: =C13*F13 -> 0 | H13: =F13*D13 -> 0
A14: 629.01.57 | B14: 24" WATER MAIN | E14: LF | F14: 300.56 | G14: =C14*F14 -> 0 | H14: =F14*D14 -> 0
A15: 629.01.62 | B15: 30" WATER MAIN | E15: LF | F15: 348.0961 | G15: =C15*F15 -> 0 | H15: =F15*D15 -> 0
A16: 629.01.67 | B16: 36" WATER MAIN | E16: LF | F16: 385.3718 | G16: =C16*F16 -> 0 | H16: =F16*D16 -> 0
... A39: 629.00.11 | B39: WATER SERVICE TO LOTS | E39: EA | F39: 1740.4391 | G39: =C39*F39 -> 0 | H39: =F39*D39 -> 0
A40: 629.99.MISC | B40: WATER MAIN MISCELLANEOUS | F40: 0 | G40: =C40*F40 -> 0 | H40: =F40*D40 -> 0
A41: 0 | B41: 0 | E41: 0 | F41: 0
A42: Fire | B42: 0 | E42: 0 | F42: 0
A43: 0 | B43: 0 | E43: 0 | F43: 0
A44: 629.00.30 | B44: FIRE HYDRANT | E44: EA | F44: 6825.0101 | G44: =C44*F44 -> 0 | H44: =F44*D44 -> 0
A45: 629.00.32 | B45: FIRE HYDRANT RELOCATION | E45: EA | F45: 4699.1784 | G45: =C45*F45 -> 0 | H45: =F45*D45 -> 0
A46: 616.00.10 | B46: FIRE CRASH GATE (WROUGHT IRON) | E46: SF | F46: 93.51496 | G46: =C46*F46 -> 0 | H46: =F46*D46 -> 0
F47: Subtotal= | G47: =SUM(G5:G46) -> 0 | H47: =SUM(H5:H46) -> 0

Sheet ROADWAY
A1: ROADWAY IMPROVEMENTS
A2: LINEITEM | B2: DESCRIPTION | C2: Public Quantity | D2: Private Quantity | E2: Unit Type | F2: 100% Unit Cost for Surety | G2: Total Public Estimate for Surety | H2: Total Private Estimate for Surety
A3: Roadway | B3: 0 | E3: 0
A4: 0 | B4: 0 | E4: 0
A5: 613.01.11 | B5: CURB & GUTTER(TYPE "L"&"A") | E5: LF | F5: 24.95042 | G5: =C5*F5 -> 0 | H5: =F5*D5 -> 0
A6: 613.01.13 | B6: CURB & GUTTER (30" ROLL TYPE) | E6: LF | F6: 32.4159 | G6: =C6*F6 -> 0 | H6: =F6*D6 -> 0
A7: 613.01.36 | B7: CROSS GUTTER | E7: SF | F7: 23.6269 | G7: =C7*F7 -> 0 | H7: =F7*D7 -> 0
A8: 613.01.66 | B8: CONCRETE TACK-ON ISLAND | E8: SF | F8: 31.34054 | G8: =C8*F8 -> 0 | H8: =F8*D8 -> 0
A9: 613.01.45 | B9: DRIVEWAY RESIDENTIAL | E9: SF | F9: 11.18788 | G9: =C9*F9 -> 0 | H9: =F9*D9 -> 0
A10: 613.01.41 | B10: DRIVEWAY COMMERCIAL | E10: SF | F10: 14.9413 | G10: =C10*F10 -> 0 | H10: =F10*D10 -> 0
A11: 613.01.24 | B11: SIDEWALK 4" | E11: SF | F11: 7.47582 | G11: =C11*F11 -> 0 | H11: =F11*D11 -> 0
A12: 613.01.25 | B12: SIDEWALK 5" | E12: SF | F12: 16.21312 | G12: =C12*F12 -> 0 | H12: =F12*D12 -> 0
A13: 613.01.55 | B13: SIDEWALK RAMP | E13: EA | F13: 2486.3357 | G13: =C13*F13 -> 0 | H13: =F13*D13 -> 0
A14: 613.01.71 | B14: SIDEWALK UNDERDRAIN | E14: EA | F14: 1790.1642 | G14: =C14*F14 -> 0 | H14: =F14*D14 -> 0
A15: 0 | B15: 0 | E15: 0
A16: Roadway Subgrade/AC | E16: 0
A17: 0 | B17: 0 | E17: 0
A18: 302.00.01 | B18: TYPE I GRAVEL BASE | E18: CY | F18: 31.15442 | G18: =C18*F18 -> 0 | H18: =F18*D18 -> 0
A19: 302.00.05 | B19: TYPE II GRAVEL BASE | E19: CY | F19: 31.15442 | G19: =C19*F19 -> 0 | H19: =F19*D19 -> 0
A20: 302.03.01 | B20: SUBGRADE PREPARATION(SCARIFY) | E20: SY | F20: 3.74308 | G20: =C20*F20 -> 0 | H20: =F20*D20 -> 0
A21: 730.00.01 | B21: GEOTEXTILE STREET SUBGRADE | E21: SY | F21: 9.96776 | G21: =C21*F21 -> 0 | H21: =F21*D21 -> 0
A22: 730.00.02 | B22: GEOGRID STREET SUBGRADE | E22: SY | F22: 9.96776 | G22: =C22*F22 -> 0 | H22: =F22*D22 -> 0
A23: 402.00.02 | B23: 2" ASPHALTIC CONCRETE PAVING | E23: SY | F23: 18.70506 | G23: =C23*F23 -> 0 | H23: =F23*D23 -> 0
A24: 402.00.03 | B24: 3" ASPHALTIC CONCRETE PAVING | E24: SY | F24: 23.68894 | G24: =C24*F24 -> 0 | H24: =F24*D24 -> 0
A25: 402.00.04 | B25: 4" ASPHALTIC CONCRETE PAVING | E25: SY | F25: 29.91362 | G25: =C25*F25 -> 0 | H25: =F25*D25 -> 0
A26: 402.00.05 | B26: 5" ASPHALTIC CONCRETE PAVING | E26: SY | F26: 37.41012 | G26: =C26*F26 -> 0 | H26: =F26*D26 -> 0
A27: 402.00.06 | B27: 6" ASPHALTIC CONCRETE PAVING | E27: SY | F27: 41.14286 | G27: =C27*F27 -> 0 | H27: =F27*D27 -> 0
A28: 403.00.01 | B28: DENSE GRADE | E28: SY | F28: 11.18788 | G28: =C28*F28 -> 0 | H28: =F28*D28 -> 0
A29: 403.00.05 | B29: UTACS | E29: SY | F29: 11.20856 | G29: =C29*F29 -> 0 | H29: =F29*D29 -> 0
... A31: 202.01.20 | B31: ROTOMILL PAVEMENT | E31: SY | F31: 13.69016 | G31: =C31*F31 -> 0 | H31: =F31*D31 -> 0
A32: 0 | B32: 0 | E32: 0
A33: Pavement Markings
A34: 0 | B34: 0
A35: 633.00.01 | B35: PVMT BUTTON(REFLECTIVE) | E35: EA | F35: 6.1006 | G35: =C35*F35 -> 0 | H35: =F35*D35 -> 0
A36: 633.00.02 | B36: PVMT BUTTON(NON-REFLECTIVE) | E36: EA | F36: 3.66036 | G36: =C36*F36 -> 0 | H36: =F36*D36 -> 0
A37: 628.00.05 | B37: PAVEMENT STRIPING COLLECTOR | E37: LF | F37: 9.79198 | G37: =C37*F37 -> 0 | H37: =F37*D37 -> 0
A38: 628.00.06 | B38: PAVEMENT STRIPING ARTERIAL | E38: LF | F38: 26.37734 | G38: =C38*F38 -> 0 | H38: =F38*D38 -> 0
A40: Bus Stop Shelter/Turn Out | E40: 0
A41: 0 | B41: 0 | E41: 0
A42: 506.00.20 | B42: BUS STOP SHELTER | E42: EA | F42: 16833.282 | G42: =C42*F42 -> 0 | H42: =F42*D42 -> 0
A43: 506.00.20.1 | B43: BUS STOP PAD ONLY | E43: EA | F43: 3117.2825 | G43: =C43*F43 -> 0 | H43: =F43*D43 -> 0
A44: 506.00.20.11 | B44: BUS STOP PAD REMOVE & REPLACE | E44: EA | F44: 4364.1935 | G44: =C44*F44 -> 0 | H44: =F44*D44 -> 0
A45: 506.00.21 | B45: BUS STOP SHELTER (Bench Only) | E45: EA | F45: 1870.3612 | G45: =C45*F45 -> 0 | H45: =F45*D45 -> 0
A46: 506.00.22 | B46: BUS STOP SHELTER RELOCATE | E46: EA | F46: 10069.681 | G46: =C46*F46 -> 0 | H46: =F46*D46 -> 0
A47: 506.00.23 | B47: BSTOP APPURTENANCE/RECYCLE BIN | E47: EA | F47: 748.14036 | G47: =C47*F47 -> 0 | H47: =F47*D47 -> 0
A48: 506.00.24 | B48: R & R BUS STOP SHELTER | E48: EA | F48: 5345.6249 | G48: =C48*F48 -> 0 | H48: =F48*D48 -> 0
A49: 409.00.10 | B49: BUS TURNOUT | E49: SF | F49: 16.17176 | G49: =C49*F49 -> 0 | H49: =F49*D49 -> 0
A50: 0 | B50: 0 | E50: 0
A51: Survey Monuments | E51: 0
A52: 0 | B52: 0 | E52: 0
A53: 621.00.00 | B53: SURVEY MONUMENTS | E53: EA | F53: 2734.992 | G53: =C53*F53 -> 0 | H53: =F53*D53 -> 0
F54: Subtotal= | G54: =SUM(G5:G53) -> 0 | H54: =SUM(H5:H53) -> 0

Sheet TRAFFIC
A1: TRAFFIC IMPROVEMENTS
A2: LINEITEM | B2: DESCRIPTION | C2: Public Quantity | D2: Private Quantity | E2: Unit Type | F2: 100% Unit Cost for Surety | G2: Total Public Estimate for Surety | H2: Total Private Estimate for Surety
A3: Street Light | B3: 0 | E3: 0 | F3: 0
A4: 0 | B4: 0 | E4: 0 | F4: 0
A5: 623.00.12 | B5: P30 PULL BOX | E5: EA | F5: 2358.037 | G5: =C5*F5 -> 0 | H5: =F5*D5 -> 0
A6: 623.00.14 | B6: NO 5 PULL BOX | E6: EA | F6: 1161.8024 | G6: =C6*F6 -> 0 | H6: =F6*D6 -> 0
A7: 623.01.60 | B7: STREETLIGHT (STNDRD BASE) | E7: EA | F7: 3356.5605 | G7: =C7*F7 -> 0 | H7: =F7*D7 -> 0
A8: 623.01.61 | B8: STRTLT FOUNDATION (STNDRD BASE) | E8: EA | F8: 1246.9006 | G8: =C8*F8 -> 0 | H8: =F8*D8 -> 0
A9: 623.01.68 | B9: STREETLIGHT DBL ARM(STANDARD) | E9: EA | F9: 4226.7645 | G9: =C9*F9 -> 0 | H9: =F9*D9 -> 0
A10: 623.01.66 | B10: STREETLIGHT (CONCRETE POLE) | E10: EA | F10: 10193.989 | G10: =C10*F10 -> 0 | H10: =F10*D10 -> 0
A11: 623.01.62 | B11: STRTLT FOUNDATION (CONC. POLE) | E11: EA | F11: 1870.3612 | G11: =C11*F11 -> 0 | H11: =F11*D11 -> 0
A12: 623.01.67 | B12: STREETLIGHT DBL ARM(CONCRETE) | E12: EA | F12: 11810.11 | G12: =C12*F12 -> 0 | H12: =F12*D12 -> 0
A13: 623.01.70 | B13: STREETLIGHT (BREAKAWAY BASE) | E13: EA | F13: 5718.5784 | G13: =C13*F13 -> 0 | H13: =F13*D13 -> 0
A14: 623.01.56 | B14: ADJUST/RELOCATE STREETLIGHT | E14: EA | F14: 4724.0461 | G14: =C14*F14 -> 0 | H14: =F14*D14 -> 0
A15: 623.01.51 | B15: MODIFIED ST LT FOUNDATION | E15: EA | F15: 4972.6714 | G15: =C15*F15 -> 0 | H15: =F15*D15 -> 0
A16: 623.01.52 | B16: MODIFIED CRASH CAP | E16: EA | F16: 1864.7673 | G16: =C16*F16 -> 0 | H16: =F16*D16 -> 0
... A25: 980.01.14 | B25: TRANSMISSION POLE | E25: EA | F25: 372950.9 | G25: =C25*F25 -> 0 | H25: =F25*D25 -> 0
A26: 0 | B26: 0 | E26: 0
A27: Traffic Signal | B27: 0 | E27: 0
A28: 0 | B28: 0 | E28: 0
A29: 623.01.78 | B29: SCHOOL FLASHER | E29: EA | F29: 87283.724 | G29: =C29*F29 -> 0 | H29: =F29*D29 -> 0
A30: 623.01.82 | B30: TRAFFIC SIGNAL POLE AND ARM | E30: EA | F30: 155863.8 | G30: =C30*F30 -> 0 | H30: =F30*D30 -> 0
A31: 623.01.85 | B31: TRAFFIC SIGNAL FOUNDATION ONLY | E31: EA | F31: 6713.1209 | G31: =C31*F31 -> 0 | H31: =F31*D31 -> 0
A32: 623.00.75 | B32: 3" INTERCONNECT CONDUIT | E32: LF | F32: 30.2962 | G32: =C32*F32 -> 0 | H32: =F32*D32 -> 0
A33: 623.00.82 | B33: 4" INTERCONNECT CONDUIT | E33: LF | F33: 35.1043 | G33: =C33*F33 -> 0 | H33: =F33*D33 -> 0
A34: 502.00.01 | B34: CONCRETE BARRICADE | E34: LF | F34: 248.6253 | G34: =C34*F34 -> 0 | H34: =F34*D34 -> 0
A35: 619.00.30 | B35: TYPE III BARRICADE | E35: EA | F35: 919.93946 | G35: =C35*F35 -> 0 | H35: =F35*D35 -> 0
A36: 627.01.10 | B36: STREET/STOP SIGNS | E36: EA | F36: 374.08052 | G36: =C36*F36 -> 0 | H36: =F36*D36 -> 0
A37: 623.99.MISC | B37: TRAFFIC SIGNAL MISCELLANEOUS | F37: 0 | G37: =C37*F37 -> 0 | H37: =F37*D37 -> 0
F38: Subtotal= | G38: =SUM(G5:G37) -> 0 | H38: =SUM(H5:H37) -> 0

Sheet DRAINAGE
A1: DRAINAGE IMPROVEMENTS
A2: LINEITEM | B2: DESCRIPTION | C2: Public Quantity | D2: Private Quantity | E2: Unit Type | F2: 100% Unit Cost for Surety | G2: Total Public Estimate for Surety | H2: Total Private Estimate for Surety
A3: Storm Drain | B3: 0 | E3: 0
A4: 0 | B4: 0 | E4: 0
A5: 603.00.02 | B5: 12" STORM DRAIN | E5: LF | F5: 105.985 | G5: =C5*F5 -> 0 | H5: =F5*D5 -> 0
A6: 603.00.04 | B6: 18" STORM DRAIN | E6: LF | F6: 155.50326 | G6: =C6*F6 -> 0 | H6: =F6*D6 -> 0
A7: 603.00.06 | B7: 24" STORM DRAIN | E7: LF | F7: 182.37692 | G7: =C7*F7 -> 0 | H7: =F7*D7 -> 0
A8: 603.00.08 | B8: 30" STORM DRAIN | E8: LF | F8: 202.51924 | G8: =C8*F8 -> 0 | H8: =F8*D8 -> 0
A9: 603.00.10 | B9: 36" STORM DRAIN | E9: LF | F9: 214.8135 | G9: =C9*F9 -> 0 | H9: =F9*D9 -> 0
A10: 603.00.12 | B10: 42" STORM DRAIN | E10: LF | F10: 279.70734 | G10: =C10*F10 -> 0 | H10: =F10*D10 -> 0
A11: 603.00.14 | B11: 48" STORM DRAIN | E11: LF | F11: 359.1599 | G11: =C11*F11 -> 0 | H11: =F11*D11 -> 0
A12: 603.00.16 | B12: 54" STORM DRAIN | E12: LF | F12: 369.23106 | G12: =C12*F12 -> 0 | H12: =F12*D12 -> 0
A13: 603.00.18 | B13: 60" STORM DRAIN | E13: LF | F13: 432.97716 | G13: =C13*F13 -> 0 | H13: =F13*D13 -> 0
A14: 603.00.19 | B14: 66" STORM DRAIN | E14: LF | F14: 479.99314 | G14: =C14*F14 -> 0 | H14: =F14*D14 -> 0
A15: 603.00.22 | B15: 72" STORM DRAIN | E15: LF | F15: 486.71414 | G15: =C15*F15 -> 0 | H15: =F15*D15 -> 0
A16: 603.00.26 | B16: 84" STORM DRAIN | E16: LF | F16: 538.17632 | G16: =C16*F16 -> 0 | H16: =F16*D16 -> 0
... A22: 208.00.08 | B22: SD CONCRETE ENCASEMENT | E22: LF | F22: 48.48426 | G22: =C22*F22 -> 0 | H22: =F22*D22 -> 0
A23: 0 | B23: 0 | E23: 0
A24: Drop Inlets | B24: 0 | E24: 0
A25: 0 | B25: 0 | E25: 0
A26: 609.01.17 | B26: 3' NEENAH DROP INLET D=6' MAX | E26: EA | F26: 11437.157 | G26: =C26*F26 -> 0 | H26: =F26*D26 -> 0
A27: 609.01.18 | B27: 6' NEENAH DROP INLET D=6' MAX | E27: EA | F27: 11685.792 | G27: =C27*F27 -> 0 | H27: =F27*D27 -> 0
A28: 609.01.19 | B28: 9' NEENAH DROP INLET D=6' MAX | E28: EA | F28: 12307.371 | G28: =C28*F28 -> 0 | H28: =F28*D28 -> 0
A29: 609.01.11 | B29: 4' TYPE A DROP INLET | E29: EA | F29: 7272.5563 | G29: =C29*F29 -> 0 | H29: =F29*D29 -> 0
A30: 609.01.13 | B30: 6' TYPE A DROP INLET | E30: EA | F30: 8950.8313 | G30: =C30*F30 -> 0 | H30: =F30*D30 -> 0
A31: 609.01.15 | B31: 8' TYPE A DROP INLET | E31: EA | F31: 11747.956 | G31: =C31*F31 -> 0 | H31: =F31*D31 -> 0
A32: 609.01.16 | B32: 10' TYPE A DROP INLET | E32: EA | F32: 13426.221 | G32: =C32*F32 -> 0 | H32: =F32*D32 -> 0
A33: 609.01.21 | B33: 4' TYPE C DROP INLET | E33: EA | F33: 8204.9348 | G33: =C33*F33 -> 0 | H33: =F33*D33 -> 0
A34: 609.01.22 | B34: 6' TYPE C DROP INLET | E34: EA | F34: 8702.1854 | G34: =C34*F34 -> 0 | H34: =F34*D34 -> 0
A35: 609.01.42 | B35: 2.5' TYPE CM2 DI | E35: EA | F35: 8950.8313 | G35: =C35*F35 -> 0 | H35: =F35*D35 -> 0
A36: 609.01.43 | B36: 5' CM2 DROP INLET | E36: EA | F36: 10405.318 | G36: =C36*F36 -> 0 | H36: =F36*D36 -> 0
A37: 609.01.44 | B37: 7.5' CM2 DROP INLET | E37: EA | F37: 13426.221 | G37: =C37*F37 -> 0 | H37: =F37*D37 -> 0
... A55: 202.02.44 | B55: REMOVE DROP INLET | E55: EA | F55: 7648.0017 | G55: =C55*F55 -> 0 | H55: =F55*D55 -> 0
A57: Flood Control Erosion Control | E57: 0
A58: 0 | B58: 0 | E58: 0
A59: 610.98.20 | B59: RIP RAP (D50-04") | E59: CY | F59: 74.59276 | G59: =C59*F59 -> 0 | H59: =F59*D59 -> 0
A60: 610.98.22 | B60: RIP RAP (D50-06") | E60: CY | F60: 80.79676 | G60: =C60*F60 -> 0 | H60: =F60*D60 -> 0
A61: 610.98.24 | B61: RIP RAP (D50-08") | E61: CY | F61: 87.0111 | G61: =C61*F61 -> 0 | H61: =F61*D61 -> 0
A62: 610.98.26 | B62: RIP RAP (D50-10") | E62: CY | F62: 90.76452 | G62: =C62*F62 -> 0 | H62: =F62*D62 -> 0
A63: 610.98.27 | B63: RIP RAP (D50-12") | E63: CY | F63: 94.48692 | G63: =C63*F63 -> 0 | H63: =F63*D63 -> 0
A64: 610.98.28 | B64: RIP RAP (D50-18") | E64: CY | F64: 99.46046 | G64: =C64*F64 -> 0 | H64: =F64*D64 -> 0
A65: 610.98.29 | B65: RIP RAP (D50-24") | E65: CY | F65: 103.18286 | G65: =C65*F65 -> 0 | H65: =F65*D65 -> 0
A66: 610.98.30 | B66: GROUTED RIP RAP (D50=04") | E66: CY | F66: 93.23578 | G66: =C66*F66 -> 0 | H66: =F66*D66 -> 0
A67: 610.98.32 | B67: GROUTED RIP RAP (D50=06") | E67: CY | F67: 99.46046 | G67: =C67*F67 -> 0 | H67: =F67*D67 -> 0
A68: 610.98.34 | B68: GROUTED RIP RAP (D50=08") | E68: CY | F68: 105.66446 | G68: =C68*F68 -> 0 | H68: =F68*D68 -> 0
A69: 610.98.36 | B69: GROUTED RIP RAP (D50=10") | E69: CY | F69: 99.74998 | G69: =C69*F69 -> 0 | H69: =F69*D69 -> 0
A70: 610.98.37 | B70: GROUTED RIP RAP (D50=12") | E70: CY | F70: 118.10348 | G70: =C70*F70 -> 0 | H70: =F70*D70 -> 0
... A75: 612.00.02 | B75: SHOTCRETE | E75: CY | F75: 186.47156 | G75: =C75*F75 -> 0 | H75: =F75*D75 -> 0
F76: Subtotal= | G76: =SUM(G5:G75) -> 0 | H76: =SUM(H5:H75) -> 0

Sheet DRAINAGE (Cont)
A1: DRAINAGE IMPROVEMENTS CONTINUED
A2: LINEITEM | B2: DESCRIPTION | C2: Public Quantity | D2: Private Quantity | E2: Unit Type | F2: 100% Unit Cost for Surety | G2: Total Public Estimate for Surety | H2: Total Private Estimate for Surety
A3: Drainage Easement/Flood Wall | E3: 0
A4: 0 | B4: 0 | E4: 0
A5: 611.00.02 | B5: FLOOD WALL - 2' | E5: LF | F5: 223.77828 | G5: =C5*F5 -> 0 | H5: =F5*D5 -> 0
A6: 611.00.03 | B6: FLOOD WALL - 3' | E6: LF | F6: 253.98142 | G6: =C6*F6 -> 0 | H6: =F6*D6 -> 0
A7: 611.00.04 | B7: FLOOD WALL - 4' | E7: LF | F7: 279.70734 | G7: =C7*F7 -> 0 | H7: =F7*D7 -> 0
A8: 611.00.06 | B8: FLOOD WALL - 6' | E8: LF | F8: 335.64674 | G8: =C8*F8 -> 0 | H8: =F8*D8 -> 0
A9: 616.00.40 | B9: RETAINING WALL | E9: LF | F9: 335.64674 | G9: =C9*F9 -> 0 | H9: =F9*D9 -> 0
A10: 610.98.10 | B10: DRAINAGE EASEMENT GRASS | E10: SF | F10: 42.26992 | G10: =C10*F10 -> 0 | H10: =F10*D10 -> 0
A11: 611.00.15 | B11: DRAINAGE EASEMENT CONCRETE | E11: SF | F11: 17.41256 | G11: =C11*F11 -> 0 | H11: =F11*D11 -> 0
A12: 980.02.01 | B12: DRAINAGE EASEMENT BOLLARD | E12: EA | F12: 710.73024 | G12: =C12*F12 -> 0 | H12: =F12*D12 -> 0
A13: 616.00.08 | B13: DRAINAGE EASEMENT WROUGHT IRON | E13: SF | F13: 124.69006 | G13: =C13*F13 -> 0 | H13: =F13*D13 -> 0
A14: 0 | B14: 0 | E14: 0
A15: Storm Drain Manhole | E15: 0
A16: 0 | B16: 0 | E16: 0
A17: 609.00.10 | B17: 48" SD MANHOLE | E17: EA | F17: 9435.6429 | G17: =C17*F17 -> 0 | H17: =F17*D17 -> 0
A18: 609.00.14 | B18: 60" SD MANHOLE | E18: EA | F18: 10392.899 | G18: =C18*F18 -> 0 | H18: =F18*D18 -> 0
A19: 609.00.46 | B19: 72" SD MANHOLE | E19: EA | F19: 13538.131 | G19: =C19*F19 -> 0 | H19: =F19*D19 -> 0
A20: 609.00.48 | B20: SD MANHOLE DEEP > 18' | E20: EA | F20: 19144.81 | G20: =C20*F20 -> 0 | H20: =F20*D20 -> 0
A21: 609.98.10 | B21: SD LEACH FIELD SYSTEM(JANSSEN) | E21: EA | F21: 11188.521 | G21: =C21*F21 -> 0 | H21: =F21*D21 -> 0
A22: 605.01.20 | B22: 6" BLEEDER LINE | E22: LF | F22: 123.07702 | G22: =C22*F22 -> 0 | H22: =F22*D22 -> 0
A23: 609.00.49 | B23: ADJUST SD MANHOLE | E23: EA | F23: 1056.686 | G23: =C23*F23 -> 0 | H23: =F23*D23 -> 0
A24: 0 | B24: 0 | E24: 0
A25: RCB | B25: 0 | E25: 0
A26: 0 | B26: 0 | E26: 0
A27: 603.01.02 | B27: 3' X 2' RCB | E27: LF | F27: 352.44924 | G27: =C27*F27 -> 0 | H27: =F27*D27 -> 0
A28: 603.01.03 | B28: 3' X 3' RCB | E28: LF | F28: 386.01288 | G28: =C28*F28 -> 0 | H28: =F28*D28 -> 0
A29: 603.01.12 | B29: 4' X 2' RCB | E29: LF | F29: 409.49502 | G29: =C29*F29 -> 0 | H29: =F29*D29 -> 0
A30: 603.01.14 | B30: 4' X 3' RCB | E30: LF | F30: 426.28718 | G30: =C30*F30 -> 0 | H30: =F30*D30 -> 0
A31: 603.01.16 | B31: 4' X 4' RCB | E31: LF | F31: 483.36398 | G31: =C31*F31 -> 0 | H31: =F31*D31 -> 0
A32: 603.01.22 | B32: 5' X 3' RCB | E32: LF | F32: 493.4248 | G32: =C32*F32 -> 0 | H32: =F32*D32 -> 0
A33: 603.01.24 | B33: 5' X 4' RCB | E33: LF | F33: 587.40506 | G33: =C33*F33 -> 0 | H33: =F33*D33 -> 0
A34: 603.01.26 | B34: 5' X 5' RCB | E34: LF | F34: 650.05512 | G34: =C34*F34 -> 0 | H34: =F34*D34 -> 0
A35: 603.01.32 | B35: 6' X 3' RCB | E35: LF | F35: 665.73056 | G35: =C35*F35 -> 0 | H35: =F35*D35 -> 0
A36: 603.01.34 | B36: 6' X 4' RCB | E36: LF | F36: 688.11666 | G36: =C36*F36 -> 0 | H36: =F36*D36 -> 0
A37: 603.01.36 | B37: 6' X 5' RCB | E37: LF | F37: 704.86746 | G37: =C37*F37 -> 0 | H37: =F37*D37 -> 0
A38: 603.01.38 | B38: 6' X 6' RCB | E38: LF | F38: 721.65962 | G38: =C38*F38 -> 0 | H38: =F38*D38 -> 0
... A70: 502.00CP.01 | B70: CAST IN PLACE STRUCTURE | E70: CY | F70: 1168.5751 | G70: =C70*F70 -> 0 | H70: =F70*D70 -> 0
A71: 502.00CPMISC | B71: CAST IN PLACE MISCELLANEOUS | F71: 0 | G71: =C71*F71 -> 0 | H71: =F71*D71 -> 0
A72: 609.99.MISC | B72: FLOOD CONTROL MISCELLANEOUS | F72: 0 | G72: =C72*F72 -> 0 | H72: =F72*D72 -> 0
F73: Subtotal= | G73: =SUM(G5:G72) -> 0 | H73: =SUM(H5:H72) -> 0

Sheet DRY UTILITIES AND OTHER
A1: DRY UTILITIES AND OTHER IMPROVEMENTS
A2: LINEITEM | B2: DESCRIPTION | C2: Public Quantity | D2: Private Quantity | E2: Unit Type | F2: 100% Unit Cost for Surety | G2: Total Public Estimate for Surety | H2: Total Private Estimate for Surety
A3: Trenching and Embankment | E3: 0
A4: 0 | B4: 0 | E4: 0
A5: 203.00.05 | B5: EXCAVATION & EMBANKMENT | E5: CY | F5: 14.9413 | G5: =C5*F5 -> 0 | H5: =F5*D5 -> 0
A6: 208.00.90 | B6: MISCELLANEOUS TRENCHING | E6: LF | F6: 58.41066 | G6: =C6*F6 -> 0 | H6: =F6*D6 -> 0
A7: 208.00.91 | B7: MISCELLANEOUS BORING | E7: LF | F7: 58.41066 | G7: =C7*F7 -> 0 | H7: =F7*D7 -> 0
A9: Utilities to Lots | E9: 0
A10: 0 | B10: 0 | E10: 0
A11: 980.00.02 | B11: CABLE TO LOTS(RES SUBDIV ONLY) | E11: EA | F11: 932.3578 | G11: =C11*F11 -> 0 | H11: =F11*D11 -> 0
A12: 980.00.04 | B12: GAS TO LOTS(RES SUBDIV ONLY) | E12: EA | F12: 1862.3271 | G12: =C12*F12 -> 0 | H12: =F12*D12 -> 0
A13: 980.00.06 | B13: PHONE TO LOTS(RES SUBDIV ONLY) | E13: EA | F13: 932.3578 | G13: =C13*F13 -> 0 | H13: =F13*D13 -> 0
A14: 980.00.08 | B14: POWER TO LOTS(RES SUBDIV ONLY) | E14: EA | F14: 2144.485 | G14: =C14*F14 -> 0 | H14: =F14*D14 -> 0
A15: 0 | B15: 0 | E15: 0
A16: Miscellaneous | E16: 0
A17: 0 | B17: 0 | E17: 0
A18: 980.03.1MISC | B18: GAS MAIN MISCELLANEOUS | E18: LF | F18: 0 | G18: =C18*F18 -> 0 | H18: =F18*D18 -> 0
A19: 980.03.MISC | B19: GAS MISCELLANEOUS | F19: 0 | G19: =C19*F19 -> 0 | H19: =F19*D19 -> 0
A20: 999.00.MISC | B20: MISCELLANEOUS | F20: 0 | G20: =C20*F20 -> 0 | H20: =F20*D20 -> 0
A21: 0 | B21: 0 | E21: 0
A22: Permit Line Items | E22: 0
A23: 0 | B23: 0 | E23: 0
A24: 202.00.05 | B24: PERM. REMOVE PARKING METERS | E24: EA | F24: 3729.5139 | G24: =C24*F24 -> 0 | H24: =F24*D24 -> 0
A25: 506.00.01 | B25: TEMP. REMOVE PARKING METERS | E25: EA | F25: 372.95346 | G25: =C25*F25 -> 0 | H25: =F25*D25 -> 0
A26: 980.00.09 | B26: MISCELLANEOUS OFFSITE UTILITY | E26: LS | F26: 22377.042 | G26: =C26*F26 -> 0 | H26: =F26*D26 -> 0
A27: 980.01.01 | B27: POWER/TELEPHONE VAULTS | E27: EA | F27: 10740.985 | G27: =C27*F27 -> 0 | H27: =F27*D27 -> 0
A28: 980.01.05 | B28: POWER/TELE/GAS MANHOLE | E28: EA | F28: 19579.927 | G28: =C28*F28 -> 0 | H28: =F28*D28 -> 0
A29: 980.01.10 | B29: RELOCATE OVERHEAD POWER | E29: LF | F29: 12.42868 | G29: =C29*F29 -> 0 | H29: =F29*D29 -> 0
A30: 980.01.16 | B30: UTILITY WIRE | E30: LF | F30: 8.08588 | G30: =C30*F30 -> 0 | H30: =F30*D30 -> 0
A31: 980.03.01 | B31: GAS CATHODIC PROT. EQUIP | E31: EA | F31: 62158.496 | G31: =C31*F31 -> 0 | H31: =F31*D31 -> 0
A32: 980.03.03 | B32: GAS MAIN | E32: LF | F32: 38.54752 | G32: =C32*F32 -> 0 | H32: =F32*D32 -> 0
A33: 980.03.05 | B33: GAS SERVICE | E33: EA | F33: 1864.7673 | G33: =C33*F33 -> 0 | H33: =F33*D33 -> 0
A34: 980.03.11 | B34: GAS MAIN 1" | E34: LF | F34: 18.64302 | G34: =C34*F34 -> 0 | H34: =F34*D34 -> 0
A35: 980.03.12 | B35: GAS MAIN 2" | E35: LF | F35: 38.54752 | G35: =C35*F35 -> 0 | H35: =F35*D35 -> 0
... A72: 980.50.01 | B72: LANDSCAPE IMPROVEMENTS | E72: EA | F72: 4987.6438 | G72: =C72*F72 -> 0 | H72: =F72*D72 -> 0
F73: Subtotal= | G73: =SUM(G3:G72) -> 0 | H73: =SUM(H3:H72) -> 0
